BEGIN:VCALENDAR
VERSION:2.0
PRODID:-//City Church - ECPv4.6.9//NONSGML v1.0//EN
CALSCALE:GREGORIAN
METHOD:PUBLISH
X-WR-CALNAME:City Church
X-ORIGINAL-URL:https://citychurch.nz
X-WR-CALDESC:Events for City Church
BEGIN:VEVENT
DTSTART;TZID=Pacific/Auckland:20180111T093000
DTEND;TZID=Pacific/Auckland:20180111T110000
DTSTAMP:20180121T184402
CREATED:20171028T113049Z
LAST-MODIFIED:20171028T113049Z
UID:8744-1515663000-1515668400@citychurch.nz
SUMMARY:Thursday Girls
DESCRIPTION:
URL:https://citychurch.nz/event/thursday-girls/2018-01-11/
LOCATION:252 Otumoetai Road\, Tauranga\, 3110\, New Zealand
GEO:-37.681537;176.1360376
X-APPLE-STRUCTURED-LOCATION;VALUE=URI;X-ADDRESS=252 Otumoetai Road Tauranga 3110 New Zealand;X-APPLE-RADIUS=500;X-TITLE=252 Otumoetai Road:geo:176.1360376,-37.681537
ORGANIZER;CN="City%20Church":MAILTO:admin@citychurch.nz
END:VEVENT
END:VCALENDAR